BEGIN:VCALENDAR
VERSION:2.0
PRODID:-//www.bonsaiclub-steiermark.at//NONSGML kigkonsult.se iCalcreator 2.41.92//
CALSCALE:GREGORIAN
METHOD:PUBLISH
UID:62383635-3639-4563-a438-663334623538
X-WR-CALNAME:iCagenda
X-WR-CALDESC:Event Management Extension for Joomla!
X-WR-RELCALID:3E26604A-50F4-4449-8B3E-E4F4932D05B5
X-WR-TIMEZONE:Europe/Vienna
BEGIN:VTIMEZONE
TZID:Europe/Vienna
TZUNTIL:20181028T010000Z
BEGIN:STANDARD
TZNAME:CET
DTSTART:20161030T030000
TZOFFSETFROM:+0200
TZOFFSETTO:+0100
RDATE:20171029T030000
END:STANDARD
BEGIN:DAYLIGHT
TZNAME:CEST
DTSTART:20160327T020000
TZOFFSETFROM:+0100
TZOFFSETTO:+0200
RDATE:20170326T020000
RDATE:20180325T020000
END:DAYLIGHT
END:VTIMEZONE
BEGIN:VEVENT
UID:35386635-3965-4136-b236-386438383339
DTSTAMP:20260419T134447Z
CATEGORIES:Clubabend
CLASS:PUBLIC
DESCRIPTION;ALTREP="CID:<FFFF__=0ABBE548DFE235B58f9e8a93d@coffeebean.com>":
 Clubtreffen\nThema: alles rund ums Umtopfen mit Hans Hödl\nTheorie und Pra
 xis vom Substrat bis zur richtigen Schale!\nGemeinschaftliche Arbeit an Bo
 nsai\, Erfahrungsaustausch\, geselliges Beisammensein\, Raum für Fragen un
 d Antworten all das und noch mehr findest du bei unseren Clubabenden.
DTSTART:20170210T160000Z
DTEND:20170210T160000Z
GEO:+46.974483;+15.622204
LOCATION:Feuerwehrhaus Edelstauden
ORGANIZER:
SEQUENCE:1
SUMMARY:Clubabend
TRANSP:OPAQUE
URL:https://bonsaiclub-steiermark.at/index.php/events/eventarchiv/24-clubab
 end-9
END:VEVENT
END:VCALENDAR
