BEGIN:VCALENDAR
VERSION:2.0
PRODID:-//www.bonsaiclub-steiermark.at//NONSGML kigkonsult.se iCalcreator 2.41.92//
CALSCALE:GREGORIAN
METHOD:PUBLISH
UID:34636233-3066-4464-b562-303363343337
X-WR-CALNAME:iCagenda
X-WR-CALDESC:Event Management Extension for Joomla!
X-WR-RELCALID:3E26604A-50F4-4449-8B3E-E4F4932D05B5
X-WR-TIMEZONE:Europe/Vienna
BEGIN:VTIMEZONE
TZID:Europe/Vienna
TZUNTIL:20200329T010000Z
BEGIN:STANDARD
TZNAME:CET
DTSTART:20171029T030000
TZOFFSETFROM:+0200
TZOFFSETTO:+0100
RDATE:20181028T030000
RDATE:20191027T030000
END:STANDARD
BEGIN:DAYLIGHT
TZNAME:CEST
DTSTART:20180325T020000
TZOFFSETFROM:+0100
TZOFFSETTO:+0200
RDATE:20190331T020000
END:DAYLIGHT
END:VTIMEZONE
BEGIN:VEVENT
UID:61623731-6364-4531-a332-346139656565
DTSTAMP:20260419T133321Z
CATEGORIES:Ausstellung
CLASS:PUBLIC
DESCRIPTION;ALTREP="CID:<FFFF__=0ABBE548DFE235B58f9e8a93d@coffeebean.com>":
 Kleine Bäume ganz groß!\nDer Bonsaiclub Steiermark lädt zur großen Bonsaia
 usstellung in den Citypark\nUm japanische Bonsaikunst erleben zu können\, 
 kann man entweder ins ferne Japan reisen oder einfach in den Grazer CityPa
 rk kommen. Der Bonsaiclub-Steiermark bietet im CityPark vom xx.yy.2018 ab 
 9 Uhr bis zum cc.vv.2018 bis 18:00 täglich die Gelegenheit\, Bonsai Bäume 
 aus nächster Nähe zu e betrachten.\nBonsai – übersetzt bedeutet das „Baum 
 in der Schale“ – sind „ganz normale“ Bäume\, die durch verschiedene gestal
 terische Maßnahmen\, ähnlich einem Baum im Hochgebirge\, klein gehalten we
 rden. Ziel der Bonsaikunst ist es\, einen Baum im Kleinen so zu gestalten\
 , dass er einem großen\, alten Baum aus der Natur ähnelt.\nNeben der Mögli
 chkeit\, verschiedene Bonsai erleben zu können\, bietet der Bonsaiclub Ste
 iermark im CityPark allen Besuchern auch die Möglichkeit\, alles rund um d
 as Thema Bonsai zu erfahren. Mitglieder des Clubs betreuen die Ausstellung
  und stehen Ihnen sehr gerne für allerlei Fragen und Auskünfte fachkundig 
 zur Verfügung.\nWer sich von der Begeisterung und Faszination dieser beson
 deren Gartenkunst anstecken lässt\, hat im Rahmen der Ausstellung auch die
  Möglichkeit\, einen Einsteigerbonsai im CityPark zu erwerben. Alles Wisse
 nwerte über Pflege und Gestaltung der Bäume kann in einem der Einsteigerbo
 nsaikurse des Bonsaiclubs Steiermark erlernt werden. Interessierte sind im
  Bonsaiclub herzlich willkommen.\nWir freuen uns auf Ihren Besuch!
DTSTART:20180621T070000Z
DTEND:20180623T150000Z
GEO:00;0
LOCATION:
ORGANIZER:
SEQUENCE:1
SUMMARY:Steirische Bonsai Tage - Bonsai Ausstellung des BC Steiermark im Ci
 tyPark
TRANSP:OPAQUE
URL:https://bonsaiclub-steiermark.at/index.php/events/eventarchiv/52-bonsai
 -ausstellung-des-bc-steiermark-im-citypark
END:VEVENT
END:VCALENDAR
